BEGIN:VCALENDAR
VERSION:2.0
PRODID:-//michane.org - ECPv6.15.20//NONSGML v1.0//EN
CALSCALE:GREGORIAN
METHOD:PUBLISH
X-WR-CALNAME:michane.org
X-ORIGINAL-URL:https://michane.org
X-WR-CALDESC:Events for michane.org
REFRESH-INTERVAL;VALUE=DURATION:PT1H
X-Robots-Tag:noindex
X-PUBLISHED-TTL:PT1H
BEGIN:VTIMEZONE
TZID:UTC
BEGIN:STANDARD
TZOFFSETFROM:+0000
TZOFFSETTO:+0000
TZNAME:UTC
DTSTART:20250101T000000
END:STANDARD
END:VTIMEZONE
BEGIN:VEVENT
DTSTART;TZID=UTC:20260411T180000
DTEND;TZID=UTC:20260411T210000
DTSTAMP:20260425T160301
CREATED:20260330T040219Z
LAST-MODIFIED:20260406T221332Z
UID:2053-1775930400-1775941200@michane.org
SUMMARY:Annual General Assembly (2026)
DESCRIPTION:March 3nd\, 2026 \nDear Members and Supporters\, \nOn behalf of MICHANE INC\, Ministère Chrétien d’Assistance aux Nécessiteux)\, we are pleased to formally invite you to attend our upcoming General Assembly\, which will take place on April 11\, 2026\, at 6 PM at the premises of the House of Grace Church of Nazarene located at 128 North C. Street\, Lake Worth Florida 33460. \nThis gathering is an important opportunity for our members\, partners\, and stakeholders to come together\, reflect on our accomplishments\, and share our vision and plans. During this meeting\, we will : \n\nPresent the annual activity and financial reports\nReviwe major accomplishments and challenges\nDiscuss strategic plans and upcoming projects\nPresent New Board members for 2026-2029 for both US and Haiti\nRecognize some unconditional supporters and visitors.\n\nYour presence and participation are highly valued\, as your voice contributes significantly to the continued grwoth and success of our organization. \nKindly\, confirm your attendance by April 4th\, 2026\, via text message (SMS or Whatsapp) at 561-797-9347. Should you be unable to attend\, please inform us accordingly. \nWe look forward to your participation and continued support. \nGary Michel\, Président                         Gerda Datilus\, Secrétaire
URL:https://michane.org/event/annual-general-assembly-2026/
LOCATION:House of Grace Church of Nazarene\, 128 North C. Street\, Lake Worth\,\, FL\, 33460\, United States
CATEGORIES:General Assembly
ATTACH;FMTTYPE=image/jpeg:https://michane.org/wp-content/uploads/2025/04/IMG_20230408_203811707-scaled.jpg
END:VEVENT
END:VCALENDAR